BEGIN:VCALENDAR
VERSION:2.0
PRODID:-//MDJ Estrategia y Logística - ECPv5.3.1.1//NONSGML v1.0//EN
CALSCALE:GREGORIAN
METHOD:PUBLISH
X-WR-CALNAME:MDJ Estrategia y Logística
X-ORIGINAL-URL:https://www.mdjcr.com
X-WR-CALDESC:Eventos para MDJ Estrategia y Logística
BEGIN:VTIMEZONE
TZID:America/Chicago
BEGIN:DAYLIGHT
TZOFFSETFROM:-0600
TZOFFSETTO:-0500
TZNAME:CDT
DTSTART:20240310T080000
END:DAYLIGHT
BEGIN:STANDARD
TZOFFSETFROM:-0500
TZOFFSETTO:-0600
TZNAME:CST
DTSTART:20241103T070000
END:STANDARD
END:VTIMEZONE
BEGIN:VEVENT
DTSTART;TZID=America/Chicago:20240605T011500
DTEND;TZID=America/Chicago:20240605T011500
DTSTAMP:20260419T113255
CREATED:20240517T212106Z
LAST-MODIFIED:20240517T212106Z
UID:1606-1717550100-1717550100@www.mdjcr.com
SUMMARY:Curso Administración del Tiempo
DESCRIPTION:“La Administración del Tiempo es el arte de hacer que el tiempo sirva para el beneficio de las personas y de las sociedades.” \n“Administrar el tiempo no es solo una habilidad\, es una filosofía de vida que permite a las personas tomar el control de su presente para construir el futuro que desean. Aprender a gestionar eficazmente nuestro tiempo es aprender a vivir con propósito\, a enfocarnos en lo que realmente importa y a alcanzar nuestras metas con éxito y satisfacción.” \nEste curso está diseñado para empoderar a cada participante con las herramientas necesarias para transformar su relación con el tiempo\, optimizando su productividad y mejorando su calidad de vidau
URL:https://www.mdjcr.com/curso/curso-administracion-del-tiempo-3/
ATTACH;FMTTYPE=image/png:https://www.mdjcr.com/wp-content/uploads/2024/05/Curso-Administracion-del-Tiempo.png
END:VEVENT
END:VCALENDAR