BEGIN:VCALENDAR
VERSION:2.0
PRODID:-//MDJ Estrategia y Logística - ECPv5.3.1.1//NONSGML v1.0//EN
CALSCALE:GREGORIAN
METHOD:PUBLISH
X-WR-CALNAME:MDJ Estrategia y Logística
X-ORIGINAL-URL:https://www.mdjcr.com
X-WR-CALDESC:Eventos para MDJ Estrategia y Logística
BEGIN:VTIMEZONE
TZID:America/Chicago
BEGIN:DAYLIGHT
TZOFFSETFROM:-0600
TZOFFSETTO:-0500
TZNAME:CDT
DTSTART:20240310T080000
END:DAYLIGHT
BEGIN:STANDARD
TZOFFSETFROM:-0500
TZOFFSETTO:-0600
TZNAME:CST
DTSTART:20241103T070000
END:STANDARD
END:VTIMEZONE
BEGIN:VEVENT
DTSTART;TZID=America/Chicago:20240506T100000
DTEND;TZID=America/Chicago:20240506T100000
DTSTAMP:20260419T133026
CREATED:20240426T191423Z
LAST-MODIFIED:20240426T191423Z
UID:1581-1714989600-1714989600@www.mdjcr.com
SUMMARY:Programa de coaching "Reinventarse para el éxito integral"
DESCRIPTION:Nuestro programa “Reinventarse para el éxito integral” es para aquellos que desean dar un giro en su carrera o en su vida. Te guiamos en la exploración de nuevas oportunidades\, identificando lo que realmente te motiva y te hace feliz\, para que puedas construir una vida y una carrera que te llenen de satisfacción. \nCon un enfoque personalizado y herramientas probadas\, nuestros coaches expertos te acompañarán en cada paso de tu transformación. ¿Estás listo para descubrir cómo podemos potenciar juntos tu camino hacia el éxito? \nPara más información y para inscribirte en nuestros programas de coaching\, visita nuestra página web www.mdjcr.com o contáctanos al WhatsApp 8708-9187\, escríbenos a informacion@mdjcr.com . ¡No esperes más para dar el primer paso hacia tu éxito personal y profesional!
URL:https://www.mdjcr.com/curso/programa-de-coaching-reinventarse-para-el-exito-integral/
ATTACH;FMTTYPE=image/png:https://www.mdjcr.com/wp-content/uploads/2024/04/haikus-Reinventarse-Exito-Integral.png
END:VEVENT
END:VCALENDAR