BEGIN:VCALENDAR
VERSION:2.0
PRODID:-//MDJ Estrategia y Logística - ECPv5.3.1.1//NONSGML v1.0//EN
CALSCALE:GREGORIAN
METHOD:PUBLISH
X-WR-CALNAME:MDJ Estrategia y Logística
X-ORIGINAL-URL:https://www.mdjcr.com
X-WR-CALDESC:Eventos para MDJ Estrategia y Logística
BEGIN:VTIMEZONE
TZID:America/Chicago
BEGIN:DAYLIGHT
TZOFFSETFROM:-0600
TZOFFSETTO:-0500
TZNAME:CDT
DTSTART:20220313T080000
END:DAYLIGHT
BEGIN:STANDARD
TZOFFSETFROM:-0500
TZOFFSETTO:-0600
TZNAME:CST
DTSTART:20221106T070000
END:STANDARD
END:VTIMEZONE
BEGIN:VEVENT
DTSTART;TZID=America/Chicago:20220929T090000
DTEND;TZID=America/Chicago:20220929T090000
DTSTAMP:20260419T082351
CREATED:20220915T054052Z
LAST-MODIFIED:20220915T054216Z
UID:1494-1664442000-1664442000@www.mdjcr.com
SUMMARY:Capacitación Inventarios
DESCRIPTION:#Gestióndeinventarios\, un tema relevante siempre actual\, le entregaremos herramientas de control\, #clasificaciónABC\, #MáximosyMínimos\, #puntodereorden\, racionalización del inventario\, #transformacióndigital del proceso y más.
URL:https://www.mdjcr.com/curso/capacitacion-inventarios-3/
ATTACH;FMTTYPE=image/png:https://www.mdjcr.com/wp-content/uploads/2022/09/Inventarios.png
END:VEVENT
END:VCALENDAR