BEGIN:VCALENDAR
VERSION:2.0
PRODID:-//MDJ Estrategia y Logística - ECPv5.3.1.1//NONSGML v1.0//EN
CALSCALE:GREGORIAN
METHOD:PUBLISH
X-WR-CALNAME:MDJ Estrategia y Logística
X-ORIGINAL-URL:https://www.mdjcr.com
X-WR-CALDESC:Eventos para MDJ Estrategia y Logística
BEGIN:VTIMEZONE
TZID:America/Chicago
BEGIN:DAYLIGHT
TZOFFSETFROM:-0600
TZOFFSETTO:-0500
TZNAME:CDT
DTSTART:20220313T080000
END:DAYLIGHT
BEGIN:STANDARD
TZOFFSETFROM:-0500
TZOFFSETTO:-0600
TZNAME:CST
DTSTART:20221106T070000
END:STANDARD
END:VTIMEZONE
BEGIN:VEVENT
DTSTART;TZID=America/Chicago:20221025T083000
DTEND;TZID=America/Chicago:20221025T115000
DTSTAMP:20260419T085833
CREATED:20220930T220453Z
LAST-MODIFIED:20220930T220453Z
UID:1507-1666686600-1666698600@www.mdjcr.com
SUMMARY:Capacitación Gestión de Almacenes
DESCRIPTION:#Almacén es una unidad de servicio y soporte en la estructura orgánica y funcional de una empresa comercial o industrial con objetivos bien definidos de resguardo\, custodia\, control y #abastecimiento de materiales y productos como parte de la #cadenadesuministro . \nEl objetivo general de una #Gestióndealmacenes consiste en garantizar el suministro continuo y oportuno de los materiales y medios de producción requeridos para asegurar los servicios de forma ininterrumpida y rítmica. Esta capacitación entrega todas las herramientas necesarias para mejorar los procesos del #almacen \, #Logística y #Cadenadeabastecimiento. \n 
URL:https://www.mdjcr.com/curso/capacitacion-gestion-de-almacenes-2/
ATTACH;FMTTYPE=image/png:https://www.mdjcr.com/wp-content/uploads/2022/09/Capacitacion-Gestion-de-Almacenes.png
END:VEVENT
END:VCALENDAR